BEGIN:VCALENDAR
PRODID:-//eluceo/ical//2.0/EN
VERSION:2.0
CALSCALE:GREGORIAN
BEGIN:VEVENT
UID:916c99abf0e1a2884472a65813e29440
DTSTAMP:20260422T165239Z
SUMMARY:JFCM Young Adult Division Shabbat Dinner
DESCRIPTION:Jewish Federation of Central Massachusetts\nCalendar\nhttps://j
 ewishcentralmass.org/calendar/jfcm-young-adult-division-shabbat-dinner\n\n
 JFCM Young Adult Division Shabbat Dinner
DTSTART;TZID=America/New_York:20130118T183000
DTEND;TZID=America/New_York:20130118T203000
END:VEVENT
END:VCALENDAR
