BEGIN:VCALENDAR
PRODID:-//eluceo/ical//2.0/EN
VERSION:2.0
CALSCALE:GREGORIAN
BEGIN:VEVENT
UID:e7b78fbfc44bb6acce0278a4a6151ad6
DTSTAMP:20260423T054719Z
SUMMARY:JFCM Young Adult Division Happy Hour
DESCRIPTION:Jewish Federation of Central Massachusetts\nCalendar\nhttps://j
 ewishcentralmass.org/calendar/jfcm-young-adult-division-happy-hour\n\nJFCM
  Young Adult Division Happy Hour
DTSTART;TZID=America/New_York:20130207T183000
DTEND;TZID=America/New_York:20130207T200000
END:VEVENT
END:VCALENDAR
