BEGIN:VCALENDAR
PRODID:-//eluceo/ical//2.0/EN
VERSION:2.0
CALSCALE:GREGORIAN
BEGIN:VEVENT
UID:b68d8983d324a1f63d07b4f51084b1a3
DTSTAMP:20260423T003908Z
SUMMARY:JFCM YAD Rock Climbing at Purgatory Chasm
DESCRIPTION:Jewish Federation of Central Massachusetts\nCalendar\nhttps://j
 ewishcentralmass.org/calendar/jfcm-yad-rock-climbing-at-purgatory-chasm\n\
 nJFCM YAD Rock Climbing at Purgatory Chasm
DTSTART;TZID=America/New_York:20150906T113000
DTEND;TZID=America/New_York:20150906T150000
END:VEVENT
END:VCALENDAR
