BEGIN:VCALENDAR
PRODID:-//eluceo/ical//2.0/EN
VERSION:2.0
CALSCALE:GREGORIAN
BEGIN:VEVENT
UID:fe42b13fe22f48350b9828e4dc75174f
DTSTAMP:20260423T062507Z
SUMMARY:JFCM YAD Monthly Shabbat Dinner
DESCRIPTION:Jewish Federation of Central Massachusetts\nCalendar\nhttps://j
 ewishcentralmass.org/calendar/jfcm-yad-monthly-shabbat-dinner_March\n\nJFC
 M YAD Monthly Shabbat Dinner
DTSTART;TZID=America/New_York:20160318T190000
DTEND;TZID=America/New_York:20160318T210000
END:VEVENT
END:VCALENDAR
