BEGIN:VCALENDAR
PRODID:-//eluceo/ical//2.0/EN
VERSION:2.0
CALSCALE:GREGORIAN
BEGIN:VEVENT
UID:24c3d3e63d22f440c5c2074d2ec9cb6f
DTSTAMP:20260424T153906Z
SUMMARY:JFCM YAD Monthly Happy Hour Location TBA
DESCRIPTION:Jewish Federation of Central Massachusetts\nCalendar\nhttps://j
 ewishcentralmass.org/calendar/jfcm-yad-monthly-happy-hour-location-tba\n\n
 JFCM YAD Monthly Happy Hour Location TBA
DTSTART;TZID=America/New_York:20151015T183000
DTEND;TZID=America/New_York:20151015T203000
END:VEVENT
END:VCALENDAR
