BEGIN:VCALENDAR
PRODID:-//eluceo/ical//2.0/EN
VERSION:2.0
CALSCALE:GREGORIAN
BEGIN:VEVENT
UID:448631e4651397fe39ad367d0c1cc13f
DTSTAMP:20260423T000014Z
SUMMARY:JFCM YAD Monthly Happy Hour at Compass
DESCRIPTION:Jewish Federation of Central Massachusetts\nCalendar\nhttps://j
 ewishcentralmass.org/calendar/jfcm-yad-monthly-happy-hour-at-compass\n\nJF
 CM YAD Monthly Happy Hour at Compass
DTSTART;TZID=America/New_York:20150910T183000
DTEND;TZID=America/New_York:20150910T203000
END:VEVENT
END:VCALENDAR
