BEGIN:VCALENDAR
PRODID:-//eluceo/ical//2.0/EN
VERSION:2.0
CALSCALE:GREGORIAN
BEGIN:VEVENT
UID:b5d698a18b9cfe29ced63aa8e9893b29
DTSTAMP:20260420T204615Z
SUMMARY:JFCM YAD Jewish Baking
DESCRIPTION:Jewish Federation of Central Massachusetts\nCalendar\nhttps://j
 ewishcentralmass.org/calendar/jfcm-yad-jewish-baking\n\nhttps://www.facebo
 ok.com/events/795109967204288/
DTSTART;TZID=America/New_York:20150301T120000
DTEND;TZID=America/New_York:20150301T150000
END:VEVENT
END:VCALENDAR
