BEGIN:VCALENDAR
PRODID:-//eluceo/ical//2.0/EN
VERSION:2.0
CALSCALE:GREGORIAN
BEGIN:VEVENT
UID:8e5ffad2c3c538027b3d5350574d75bf
DTSTAMP:20260423T030438Z
SUMMARY:JFCM YAD Dinner in the Sukkah Party
DESCRIPTION:Jewish Federation of Central Massachusetts\nCalendar\nhttps://j
 ewishcentralmass.org/calendar/jfcm-yad-dinner-in-the-sukkah-party\n\nJFCM 
 YAD Dinner in the Sukkah Party
DTSTART;TZID=America/New_York:20151003T180000
DTEND;TZID=America/New_York:20151003T200000
END:VEVENT
END:VCALENDAR
