BEGIN:VCALENDAR
PRODID:-//eluceo/ical//2.0/EN
VERSION:2.0
CALSCALE:GREGORIAN
BEGIN:VEVENT
UID:498c33ca817ca58f70b920bec5e655e8
DTSTAMP:20260423T151938Z
SUMMARY:JFCM YAD Celebrate Sukkot Day
DESCRIPTION:Jewish Federation of Central Massachusetts\nCalendar\nhttps://j
 ewishcentralmass.org/calendar/jfcm-yad-celebrate-sukkot-day\n\nJFCM YAD Ce
 lebrate Sukkot Day\n\n11-2 Celebrate the Harvest Apple Picking\n\n3-4 Buil
 d the Sukkah\n\n4-6 Dinner in the Sukkah
DTSTART;TZID=America/New_York:20150927T110000
DTEND;TZID=America/New_York:20150927T180000
END:VEVENT
END:VCALENDAR
