BEGIN:VCALENDAR
PRODID:-//eluceo/ical//2.0/EN
VERSION:2.0
CALSCALE:GREGORIAN
BEGIN:VEVENT
UID:039dc58f01f68e8c0d2e5e13c307af54
DTSTAMP:20260422T013307Z
SUMMARY:JFCM YAD 2nd Night of Rosh Hashanah Dinner
DESCRIPTION:Jewish Federation of Central Massachusetts\nCalendar\nhttps://j
 ewishcentralmass.org/calendar/jfcm-yad-2nd-night-of-rosh-hashanah-dinner\n
 \nJFCM YAD 2nd Night of Rosh Hashanah Dinner
DTSTART;TZID=America/New_York:20150914T180000
DTEND;TZID=America/New_York:20150914T200000
END:VEVENT
END:VCALENDAR
