BEGIN:VCALENDAR
PRODID:-//eluceo/ical//2.0/EN
VERSION:2.0
CALSCALE:GREGORIAN
BEGIN:VEVENT
UID:faf641181570c1602edd74619e4e6184
DTSTAMP:20260423T041313Z
SUMMARY:JFCM YAD 1st Night of Rosh Hashanah Dinner
DESCRIPTION:Jewish Federation of Central Massachusetts\nCalendar\nhttps://j
 ewishcentralmass.org/calendar/jfcm-yad-1st-night-of-rosh-hashanah-dinner\n
 \nJFCM YAD 1st Night of Rosh Hashanah Dinner
DTSTART;TZID=America/New_York:20150913T180000
DTEND;TZID=America/New_York:20150913T200000
END:VEVENT
END:VCALENDAR
