BEGIN:VCALENDAR
PRODID:-//eluceo/ical//2.0/EN
VERSION:2.0
CALSCALE:GREGORIAN
BEGIN:VEVENT
UID:2791239f3785745a828397e53e98e776
DTSTAMP:20260422T214100Z
SUMMARY:JFCM Women's Philanthropy Event honoring Pomegranate & Lion of Juda
 h 
DESCRIPTION:Jewish Federation of Central Massachusetts\nCalendar\nhttps://j
 ewishcentralmass.org/calendar/jfcm-womens-philanthropy-event-honoring-pome
 granate-lion-of-judah\n\nEvent at Carol Sleeper's home.
DTSTART;TZID=America/New_York:20150519T190000
DTEND;TZID=America/New_York:20150519T210000
END:VEVENT
END:VCALENDAR
