BEGIN:VCALENDAR
PRODID:-//eluceo/ical//2.0/EN
VERSION:2.0
CALSCALE:GREGORIAN
BEGIN:VEVENT
UID:40660fb1d67e9063410543070a77c195
DTSTAMP:20260422T220301Z
SUMMARY:JFCM Women's Philanthropy Bus Tour
DESCRIPTION:Jewish Federation of Central Massachusetts\nCalendar\nhttps://j
 ewishcentralmass.org/calendar/jfcm-womens-philanthropy-bus-tour\n\nBus Tou
 r of historic Worcester\n\nBuy tickets: https://centralmass.secure-fedweb.
 jewishfederations.org/bus-tour\n\n 
DTSTART;TZID=America/New_York:20150517T130000
DTEND;TZID=America/New_York:20150517T170000
END:VEVENT
END:VCALENDAR
