BEGIN:VCALENDAR
PRODID:-//eluceo/ical//2.0/EN
VERSION:2.0
CALSCALE:GREGORIAN
BEGIN:VEVENT
UID:db24bcccc1f0cbaeaf117959cb3c5094
DTSTAMP:20260422T201316Z
SUMMARY:JFCM Women's Event featuring Deb Goldberg
DESCRIPTION:Jewish Federation of Central Massachusetts\nCalendar\nhttps://j
 ewishcentralmass.org/calendar/jfcm-womens-event\n\nJFCM Women's Event feat
 uring Deb Goldberg
DTSTART;TZID=America/New_York:20160516T190000
DTEND;TZID=America/New_York:20160516T210000
END:VEVENT
END:VCALENDAR
