BEGIN:VCALENDAR
PRODID:-//eluceo/ical//2.0/EN
VERSION:2.0
CALSCALE:GREGORIAN
BEGIN:VEVENT
UID:4b3e0bb0617d13fc220d01ce5b119f3d
DTSTAMP:20260423T061830Z
SUMMARY:JFCM Super Tuesday Phonathon
DESCRIPTION:Jewish Federation of Central Massachusetts\nCalendar\nhttps://j
 ewishcentralmass.org/calendar/jfcm-super-tuesday-phonathon\n\nJFCM Super T
 uesday Phonathon\n\nJune 13\n\n7 pm
DTSTART;TZID=America/New_York:20230613T190000
DTEND;TZID=America/New_York:20230613T210000
END:VEVENT
END:VCALENDAR
