BEGIN:VCALENDAR
PRODID:-//eluceo/ical//2.0/EN
VERSION:2.0
CALSCALE:GREGORIAN
BEGIN:VEVENT
UID:a7aafe26bacafb93bc9b2bd156787b4b
DTSTAMP:20260423T014629Z
SUMMARY:JFCM Shalom Newcomers Brunch
DESCRIPTION:Jewish Federation of Central Massachusetts\nCalendar\nhttps://j
 ewishcentralmass.org/calendar/jfcm-shalom-newcomers-brunch\n\nJFCM Shalom 
 Newcomers Brunch
DTSTART;TZID=America/New_York:20140504T110000
DTEND;TZID=America/New_York:20140504T123000
END:VEVENT
END:VCALENDAR
