BEGIN:VCALENDAR
PRODID:-//eluceo/ical//2.0/EN
VERSION:2.0
CALSCALE:GREGORIAN
BEGIN:VEVENT
UID:25db26c2fcfb7036eef5892c756f7114
DTSTAMP:20260423T151439Z
SUMMARY:JFCM PJ Library Newcomers in the Park
DESCRIPTION:Jewish Federation of Central Massachusetts\nCalendar\nhttps://j
 ewishcentralmass.org/calendar/jfcm-pj-library-newcomers-in-the-park\n\nPJ 
 Library Newcomers at Dean Park
DTSTART;TZID=America/New_York:20180916T103000
DTEND;TZID=America/New_York:20180916T120000
END:VEVENT
END:VCALENDAR
