BEGIN:VCALENDAR
PRODID:-//eluceo/ical//2.0/EN
VERSION:2.0
CALSCALE:GREGORIAN
BEGIN:VEVENT
UID:59b22518f6b214035ce3fddad4db2d41
DTSTAMP:20260423T071840Z
SUMMARY:JFCM PJ Library/Beth Tikvah/Boroughs Jewish Community Center Event
DESCRIPTION:Jewish Federation of Central Massachusetts\nCalendar\nhttps://j
 ewishcentralmass.org/calendar/jfcm-pj-library-beth-tikvah-boroughs-jewish-
 community-center-event\n\nJFCM PJ Library/BT/BJCC Event
DTSTART;TZID=America/New_York:20131027T093000
DTEND;TZID=America/New_York:20131027T120000
END:VEVENT
END:VCALENDAR
