BEGIN:VCALENDAR
PRODID:-//eluceo/ical//2.0/EN
VERSION:2.0
CALSCALE:GREGORIAN
BEGIN:VEVENT
UID:e5e2725423caa883d204ec6ec64ada6e
DTSTAMP:20260420T221937Z
SUMMARY:JFCM PJ Library 5th Birthday Bash Community Wide Event
DESCRIPTION:Jewish Federation of Central Massachusetts\nCalendar\nhttps://j
 ewishcentralmass.org/calendar/jfcm-pj-library-5th-birthday-bash-community-
 wide-event\n\nPJ LIbrary 5th Birthday Bash community wide event
DTSTART;TZID=America/New_York:20131208T140000
DTEND;TZID=America/New_York:20131208T180000
END:VEVENT
END:VCALENDAR
