BEGIN:VCALENDAR
PRODID:-//eluceo/ical//2.0/EN
VERSION:2.0
CALSCALE:GREGORIAN
BEGIN:VEVENT
UID:f2ef7f772ebacf023bb61232534a96d1
DTSTAMP:20260423T010908Z
SUMMARY:JFCM Monthly Board Meeting
DESCRIPTION:Jewish Federation of Central Massachusetts\nCalendar\nhttps://j
 ewishcentralmass.org/calendar/jfcm-monthly-board-meeting\n\nJFCM Board Mee
 ting
DTSTART;TZID=America/New_York:20210601T193000
DTEND;TZID=America/New_York:20210601T213000
END:VEVENT
END:VCALENDAR
