BEGIN:VCALENDAR
PRODID:-//eluceo/ical//2.0/EN
VERSION:2.0
CALSCALE:GREGORIAN
BEGIN:VEVENT
UID:0c97e3c06d8ee1c77029bfbbdef0610d
DTSTAMP:20260424T023629Z
SUMMARY:JFCM Mission to Israel Info Session
DESCRIPTION:Jewish Federation of Central Massachusetts\nCalendar\nhttps://j
 ewishcentralmass.org/calendar/jfcm-mission-to-israel-info-session\n\nCome 
 join us at a informational session for our next Mission to Israel.
DTSTART;TZID=America/New_York:20180621T180000
DTEND;TZID=America/New_York:20180621T200000
END:VEVENT
END:VCALENDAR
