BEGIN:VCALENDAR
PRODID:-//eluceo/ical//2.0/EN
VERSION:2.0
CALSCALE:GREGORIAN
BEGIN:VEVENT
UID:e4bcd25fe375f61a4e296b7fe8fc093c
DTSTAMP:20260423T182808Z
SUMMARY:JFCM Major Donor & LEAD Event
DESCRIPTION:Jewish Federation of Central Massachusetts\nCalendar\nhttps://j
 ewishcentralmass.org/calendar/jfcm-major-donor-lead-event\n\nThurs April 4
  6:00PM-8:30PM Clark University\n\nJFCM Major Donor & LEAD Event: A conver
 sation with Lian Najami\, Israel’s first Arab Rhodes Scholar
DTSTART;TZID=America/New_York:20190404T180000
DTEND;TZID=America/New_York:20190404T203000
END:VEVENT
END:VCALENDAR
