BEGIN:VCALENDAR
PRODID:-//eluceo/ical//2.0/EN
VERSION:2.0
CALSCALE:GREGORIAN
BEGIN:VEVENT
UID:2c1dcfb195210d879ec6aa4e9c7a2a89
DTSTAMP:20260422T094514Z
SUMMARY:JFCM Life & Legacy Kickoff Event
DESCRIPTION:Jewish Federation of Central Massachusetts\nCalendar\nhttps://j
 ewishcentralmass.org/calendar/jfcm-life-legacy-kickoff-event\n\nLife & Leg
 acy Kickoff Event\n\nKickoff Workshop Why Legacy? Why Now?
DTSTART;TZID=America/New_York:20161110T180000
DTEND;TZID=America/New_York:20161110T213000
END:VEVENT
END:VCALENDAR
