BEGIN:VCALENDAR
PRODID:-//eluceo/ical//2.0/EN
VERSION:2.0
CALSCALE:GREGORIAN
BEGIN:VEVENT
UID:c5a0314ef93f120595cc9592a8466c7d
DTSTAMP:20260425T005912Z
SUMMARY:JFCM Legacy Endowment Comm
DESCRIPTION:Jewish Federation of Central Massachusetts\nCalendar\nhttps://j
 ewishcentralmass.org/calendar/jfcm-legacy-endowment-comm\n\nJFCM Legacy En
 dowment Exploratory Committee
DTSTART;TZID=America/New_York:20160204T190000
DTEND;TZID=America/New_York:20160204T210000
END:VEVENT
END:VCALENDAR
