BEGIN:VCALENDAR
PRODID:-//eluceo/ical//2.0/EN
VERSION:2.0
CALSCALE:GREGORIAN
BEGIN:VEVENT
UID:cb0a69b33cdcb7c319af83847b0a2b0c
DTSTAMP:20260423T134406Z
SUMMARY:JFCM Leadership Council Meeting
DESCRIPTION:Jewish Federation of Central Massachusetts\nCalendar\nhttps://j
 ewishcentralmass.org/calendar/jfcm-leadership-council-meeting2\n\nJFCM Lea
 dership Council Meeting
DTSTART;TZID=America/New_York:20180621T073000
DTEND;TZID=America/New_York:20180621T090000
END:VEVENT
END:VCALENDAR
