BEGIN:VCALENDAR
PRODID:-//eluceo/ical//2.0/EN
VERSION:2.0
CALSCALE:GREGORIAN
BEGIN:VEVENT
UID:b17056f81a84f15e5a4c5daa3254a634
DTSTAMP:20260424T040410Z
SUMMARY:JFCM Leadership Council Meeting
DESCRIPTION:Jewish Federation of Central Massachusetts\nCalendar\nhttps://j
 ewishcentralmass.org/calendar/jfcm-leadership-council-meeting\n\nJFCM Lead
 ership Council
DTSTART;TZID=America/New_York:20130220T190000
DTEND;TZID=America/New_York:20130220T210000
END:VEVENT
END:VCALENDAR
