BEGIN:VCALENDAR
PRODID:-//eluceo/ical//2.0/EN
VERSION:2.0
CALSCALE:GREGORIAN
BEGIN:VEVENT
UID:929e657f629af3d542152bde0d9039c7
DTSTAMP:20260422T180928Z
SUMMARY:JFCM Latino Jewish Wine Tasting
DESCRIPTION:Jewish Federation of Central Massachusetts\nCalendar\nhttps://j
 ewishcentralmass.org/calendar/jfcm-latino-jewish-wine-tasting\n\nLatino Je
 wish Wine Tasting
DTSTART;TZID=America/New_York:20160521T203000
DTEND;TZID=America/New_York:20160521T223000
END:VEVENT
END:VCALENDAR
