BEGIN:VCALENDAR
PRODID:-//eluceo/ical//2.0/EN
VERSION:2.0
CALSCALE:GREGORIAN
BEGIN:VEVENT
UID:143451fd4f8c9269c98c79996e3cac05
DTSTAMP:20260423T151306Z
SUMMARY:JFCM Latino-Jewish Event
DESCRIPTION:Jewish Federation of Central Massachusetts\nCalendar\nhttps://j
 ewishcentralmass.org/calendar/jfcm-latino-jewish-event\n\nJFCM Jewish-Lati
 no Event
DTSTART;TZID=America/New_York:20170507T170000
DTEND;TZID=America/New_York:20170507T190000
END:VEVENT
END:VCALENDAR
