BEGIN:VCALENDAR
PRODID:-//eluceo/ical//2.0/EN
VERSION:2.0
CALSCALE:GREGORIAN
BEGIN:VEVENT
UID:c5446d0058705ac1d4145c8f9154e679
DTSTAMP:20260423T190919Z
SUMMARY:JFCM Israel Action Network Training
DESCRIPTION:Jewish Federation of Central Massachusetts\nCalendar\nhttps://j
 ewishcentralmass.org/calendar/jfcm-israel-action-network-training2\n\nIsra
 el Action Network Training
DTSTART;TZID=America/New_York:20160128T183000
DTEND;TZID=America/New_York:20160128T213000
END:VEVENT
END:VCALENDAR
