BEGIN:VCALENDAR
PRODID:-//eluceo/ical//2.0/EN
VERSION:2.0
CALSCALE:GREGORIAN
BEGIN:VEVENT
UID:9c3b0155049bd3d10a41d6aff40586d4
DTSTAMP:20260423T005418Z
SUMMARY:JFCM Israel Action Network Training
DESCRIPTION:Jewish Federation of Central Massachusetts\nCalendar\nhttps://j
 ewishcentralmass.org/calendar/jfcm-israel-action-network-training1\n\nIsra
 el Action Network Training
DTSTART;TZID=America/New_York:20160113T183000
DTEND;TZID=America/New_York:20160113T210000
END:VEVENT
END:VCALENDAR
