BEGIN:VCALENDAR
PRODID:-//eluceo/ical//2.0/EN
VERSION:2.0
CALSCALE:GREGORIAN
BEGIN:VEVENT
UID:9d2ec4c3861a7bd0d07f1dc304226fff
DTSTAMP:20260423T163049Z
SUMMARY:JFCM Harold Cotton Leadership Series
DESCRIPTION:Jewish Federation of Central Massachusetts\nCalendar\nhttps://j
 ewishcentralmass.org/calendar/jfcm-harold-cotton-leadership-series\n\nJFCM
  Harold Cotton Leadership Series
DTSTART;TZID=America/New_York:20130113T090000
DTEND;TZID=America/New_York:20130113T123000
END:VEVENT
END:VCALENDAR
