BEGIN:VCALENDAR
PRODID:-//eluceo/ical//2.0/EN
VERSION:2.0
CALSCALE:GREGORIAN
BEGIN:VEVENT
UID:2100661b4ac91a3d899a4ab563db53ab
DTSTAMP:20260422T080511Z
SUMMARY:JFCM Family Night at the Sharks
DESCRIPTION:Jewish Federation of Central Massachusetts\nCalendar\nhttps://j
 ewishcentralmass.org/calendar/jfcm-family-night-at-the-sharks\n\nTickets a
 re only $13. Contact mhall@jfcm.org for more information at 508-756-1543.
DTSTART;TZID=America/New_York:20141214T150000
DTEND;TZID=America/New_York:20141214T170000
END:VEVENT
END:VCALENDAR
