BEGIN:VCALENDAR
PRODID:-//eluceo/ical//2.0/EN
VERSION:2.0
CALSCALE:GREGORIAN
BEGIN:VEVENT
UID:94bf08a6dafbbf4c9a230679901b8ba5
DTSTAMP:20260423T210429Z
SUMMARY:JFCM Family Night at the Bravehearts
DESCRIPTION:Jewish Federation of Central Massachusetts\nCalendar\nhttps://j
 ewishcentralmass.org/calendar/jfcm-family-night-at-the-bravehearts\n\nJFCM
  Family night at the Bravehearts
DTSTART;TZID=America/New_York:20160619T170500
DTEND;TZID=America/New_York:20160619T200000
END:VEVENT
END:VCALENDAR
