BEGIN:VCALENDAR
PRODID:-//eluceo/ical//2.0/EN
VERSION:2.0
CALSCALE:GREGORIAN
BEGIN:VEVENT
UID:8b3e3f1a132e3a615ec8f55f564704c9
DTSTAMP:20260422T090826Z
SUMMARY:JFCM event with FIDF CEO Steven Weil
DESCRIPTION:Jewish Federation of Central Massachusetts\nCalendar\nhttps://j
 ewishcentralmass.org/calendar/jfcm-event-with-fidf-ceo-steven-weil\n\nPlea
 se join us for a SPECIAL PROGRAM with STEVEN WEIL FIDFs new National Direc
 tor and CEO\n\nFEBRUARY 17\, 7PM\n\n\n\nWeil\, comes to FIDF (Friends of t
 he IDF) following an 11-year tenure at the Orthodox Union (OU). He attende
 d Yeshiva University\, concurrently completing his ordination at the Rabbi
  Isaac Elchanan Theological Seminary (REITS) and receiving a master’s de
 gree in Business Administration from NYU’s Stern School of Business. Wei
 l is a sought-after speaker and educator\, and has ...
DTSTART;TZID=America/New_York:20210217T190000
DTEND;TZID=America/New_York:20210217T200000
END:VEVENT
END:VCALENDAR
