BEGIN:VCALENDAR
PRODID:-//eluceo/ical//2.0/EN
VERSION:2.0
CALSCALE:GREGORIAN
BEGIN:VEVENT
UID:9ed652b562785f492bd3fdad46ef2dc6
DTSTAMP:20260423T105211Z
SUMMARY:JFCM event at JCC with Hartman Institute
DESCRIPTION:Jewish Federation of Central Massachusetts\nCalendar\nhttps://j
 ewishcentralmass.org/calendar/jfcm-event-at-jcc-with-hartman-institute\n\n
 JFCM event at JCC with Hartman Institute 7:15 pm
DTSTART;TZID=America/New_York:20240924T191500
DTEND;TZID=America/New_York:20240924T211500
END:VEVENT
END:VCALENDAR
