BEGIN:VCALENDAR
PRODID:-//eluceo/ical//2.0/EN
VERSION:2.0
CALSCALE:GREGORIAN
BEGIN:VEVENT
UID:a095d2e6c5108f077135a823552d20ed
DTSTAMP:20260420T221026Z
SUMMARY:JFCM Community-wide Railers Game
DESCRIPTION:Jewish Federation of Central Massachusetts\nCalendar\nhttps://j
 ewishcentralmass.org/calendar/jfcm-community-wide-railers-game\n\nSunday\,
  February 10th\, 3:00 pm  J-Fed goes to the Worcester Railers vs. Cincinn
 ati Cyclones  for a PJ Library and PJ Our Way “fun-raiser”.  Doors o
 pen at 2:00 pm so come and join us at the High-Five Tunnel.  At the end o
 f game\, meet us on the center ice for J-Fed group photo.  $18.00/ticket.
   Purchase online at www.railershc.com/Jfed\n 
DTSTART;TZID=America/New_York:20190210T150000
DTEND;TZID=America/New_York:20190210T170000
END:VEVENT
END:VCALENDAR
