BEGIN:VCALENDAR
PRODID:-//eluceo/ical//2.0/EN
VERSION:2.0
CALSCALE:GREGORIAN
BEGIN:VEVENT
UID:04382ed22876fe53e3b8cc98c3770a63
DTSTAMP:20260421T101919Z
SUMMARY:JFCM Community Forum: Visit of directors of Rape Crisis Center in A
 fula
DESCRIPTION:Jewish Federation of Central Massachusetts\nCalendar\nhttps://j
 ewishcentralmass.org/calendar/jfcm-community-forum-visit-of-directors-of-r
 ape-crisis-center-in-afula\n\nJFCM Community Forum: Visit of directors of 
 Rape Crisis Center in Afula\n\nClick here for full details.
DTSTART;TZID=America/New_York:20151027T193000
DTEND;TZID=America/New_York:20151027T210000
END:VEVENT
END:VCALENDAR
