BEGIN:VCALENDAR
PRODID:-//eluceo/ical//2.0/EN
VERSION:2.0
CALSCALE:GREGORIAN
BEGIN:VEVENT
UID:38f3e138d438a3d64e666dcb73ea16a8
DTSTAMP:20260421T041502Z
SUMMARY:JFCM Community Event Memorial and Annual Meeting
DESCRIPTION:Jewish Federation of Central Massachusetts\nCalendar\nhttps://j
 ewishcentralmass.org/calendar/jfcm-community-event-memorial-and-annual-mee
 ting\n\nJFCM Community Event Memorial and Annual Meeting
DTSTART;TZID=America/New_York:20241007T190000
DTEND;TZID=America/New_York:20241007T210000
END:VEVENT
END:VCALENDAR
