BEGIN:VCALENDAR
PRODID:-//eluceo/ical//2.0/EN
VERSION:2.0
CALSCALE:GREGORIAN
BEGIN:VEVENT
UID:dab9838b1eec35ee1cc2cb03ea1a6706
DTSTAMP:20260423T081339Z
SUMMARY:JFCM Cemetery Cleanup
DESCRIPTION:Jewish Federation of Central Massachusetts\nCalendar\nhttps://j
 ewishcentralmass.org/calendar/jfcm-cemetery-cleanup\n\nJFCM Cemetery Clean
 up
DTSTART;TZID=America/New_York:20150823T090000
DTEND;TZID=America/New_York:20150823T120000
END:VEVENT
END:VCALENDAR
