BEGIN:VCALENDAR
PRODID:-//eluceo/ical//2.0/EN
VERSION:2.0
CALSCALE:GREGORIAN
BEGIN:VEVENT
UID:dad4ac0221838aff2e959403a773a084
DTSTAMP:20260423T085843Z
SUMMARY:JFCM Campaign Phon-a-thon
DESCRIPTION:Jewish Federation of Central Massachusetts\nCalendar\nhttps://j
 ewishcentralmass.org/calendar/jfcm-campaign-phon-a-thon\n\nJFCM Campaign P
 hon-a-thon
DTSTART;TZID=America/New_York:20151019T183000
DTEND;TZID=America/New_York:20151019T203000
END:VEVENT
END:VCALENDAR
