BEGIN:VCALENDAR
PRODID:-//eluceo/ical//2.0/EN
VERSION:2.0
CALSCALE:GREGORIAN
BEGIN:VEVENT
UID:3edf5be903b4f47f6689f8ad5dc5874b
DTSTAMP:20260423T152359Z
SUMMARY:JFCM CALENDAR CLEARANCE virtual
DESCRIPTION:Jewish Federation of Central Massachusetts\nCalendar\nhttps://j
 ewishcentralmass.org/calendar/jfcm-calendar-clearance-virtual\n\nJune 25 
 – CALENDAR CLEARANCE 3 pm virtual
DTSTART;TZID=America/New_York:20240625T150000
DTEND;TZID=America/New_York:20240625T170000
END:VEVENT
END:VCALENDAR
