BEGIN:VCALENDAR
PRODID:-//eluceo/ical//2.0/EN
VERSION:2.0
CALSCALE:GREGORIAN
BEGIN:VEVENT
UID:a533e64e112c160d1f207a47d20f2884
DTSTAMP:20260422T041843Z
SUMMARY:JFCM - Board Meeting
DESCRIPTION:Jewish Federation of Central Massachusetts\nCalendar\nhttps://j
 ewishcentralmass.org/calendar/jfcm-board-meeting2\n\nJFCM Board Meeting
DTSTART;TZID=America/New_York:20211102T193000
DTEND;TZID=America/New_York:20211102T213000
END:VEVENT
END:VCALENDAR
