BEGIN:VCALENDAR
PRODID:-//eluceo/ical//2.0/EN
VERSION:2.0
CALSCALE:GREGORIAN
BEGIN:VEVENT
UID:72b10fb06bbde97b64999bd912d24ecd
DTSTAMP:20260421T134454Z
SUMMARY:JFCM Board Meeting 2023-2024
DESCRIPTION:Jewish Federation of Central Massachusetts\nCalendar\nhttps://j
 ewishcentralmass.org/calendar/jfcm-board-meeting-2023-2024\n\nJFCM Board M
 eeting\n\n7:30 pm
DTSTART;TZID=America/New_York:20230905T193000
DTEND;TZID=America/New_York:20230905T213000
END:VEVENT
END:VCALENDAR
