BEGIN:VCALENDAR
PRODID:-//eluceo/ical//2.0/EN
VERSION:2.0
CALSCALE:GREGORIAN
BEGIN:VEVENT
UID:a4085450289ee1dee99dd5411884df14
DTSTAMP:20260423T191419Z
SUMMARY:JFCM Board Meeting 2022-23 final
DESCRIPTION:Jewish Federation of Central Massachusetts\nCalendar\nhttps://j
 ewishcentralmass.org/calendar/jfcm-board-meeting-2022-23-final\n\nJFCM Boa
 rd Meeting
DTSTART;TZID=America/New_York:20230606T193000
DTEND;TZID=America/New_York:20230606T213000
END:VEVENT
END:VCALENDAR
