BEGIN:VCALENDAR
PRODID:-//eluceo/ical//2.0/EN
VERSION:2.0
CALSCALE:GREGORIAN
BEGIN:VEVENT
UID:dd1fd99a5e0d9d1a01a248e03e7d4bf4
DTSTAMP:20260423T031202Z
SUMMARY:JFCM Board Meeting 2022-23
DESCRIPTION:Jewish Federation of Central Massachusetts\nCalendar\nhttps://j
 ewishcentralmass.org/calendar/jfcm-board-meeting-2022-23\n\nJFCM Board Mee
 ting\n\n7:30 pm
DTSTART;TZID=America/New_York:20220920T193000
DTEND;TZID=America/New_York:20220920T213000
END:VEVENT
END:VCALENDAR
