BEGIN:VCALENDAR
PRODID:-//eluceo/ical//2.0/EN
VERSION:2.0
CALSCALE:GREGORIAN
BEGIN:VEVENT
UID:291c23facb72181c6f1f5df95db79031
DTSTAMP:20260424T012758Z
SUMMARY:JFCM Board Meeting
DESCRIPTION:Jewish Federation of Central Massachusetts\nCalendar\nhttps://j
 ewishcentralmass.org/calendar/jfcm-board-meeting\n\nJFCM Board Meeting
DTSTART;TZID=America/New_York:20160217T193000
DTEND;TZID=America/New_York:20160217T210000
END:VEVENT
END:VCALENDAR
