BEGIN:VCALENDAR
PRODID:-//eluceo/ical//2.0/EN
VERSION:2.0
CALSCALE:GREGORIAN
BEGIN:VEVENT
UID:bb84609e4b028242d9979093002712c7
DTSTAMP:20260421T184543Z
SUMMARY:JFCM Beth Israel Federation Shabbat
DESCRIPTION:Jewish Federation of Central Massachusetts\nCalendar\nhttps://j
 ewishcentralmass.org/calendar/jfcm-beth-israel-federation-shabbat\n\nJFCM 
 will host a Federation Shabbat at Congregation Beth Israel.
DTSTART;TZID=America/New_York:20141101T090000
DTEND;TZID=America/New_York:20141101T110000
END:VEVENT
END:VCALENDAR
