BEGIN:VCALENDAR
PRODID:-//eluceo/ical//2.0/EN
VERSION:2.0
CALSCALE:GREGORIAN
BEGIN:VEVENT
UID:ddf07a09cc3b593cd1d2692fd5cda083
DTSTAMP:20260422T170146Z
SUMMARY:JFCM at the Bravehearts Game
DESCRIPTION:Jewish Federation of Central Massachusetts\nCalendar\nhttps://j
 ewishcentralmass.org/calendar/jfcm-at-the-bravehearts\n\nJFCM at the Brave
 hearts Game on June 23rd at 4:00 PM 
DTSTART;TZID=America/New_York:20190623T160000
DTEND;TZID=America/New_York:20190623T183000
END:VEVENT
END:VCALENDAR
