BEGIN:VCALENDAR
PRODID:-//eluceo/ical//2.0/EN
VERSION:2.0
CALSCALE:GREGORIAN
BEGIN:VEVENT
UID:efb9b33a56491028bc383470f3e448a9
DTSTAMP:20260423T065752Z
SUMMARY:JFCM Annual Meeting 2023
DESCRIPTION:Jewish Federation of Central Massachusetts\nCalendar\nhttps://j
 ewishcentralmass.org/calendar/jfcm-annual-meeting-2023\n\nJFCM Annual Meet
 ing\n\n7:30 pm
DTSTART;TZID=America/New_York:20231012T193000
DTEND;TZID=America/New_York:20231012T213000
END:VEVENT
END:VCALENDAR
