BEGIN:VCALENDAR
PRODID:-//eluceo/ical//2.0/EN
VERSION:2.0
CALSCALE:GREGORIAN
BEGIN:VEVENT
UID:d955d82d1fa6fc31273b726ce70f72b3
DTSTAMP:20260423T003742Z
SUMMARY:JFCM - Annual Meeting 2022
DESCRIPTION:Jewish Federation of Central Massachusetts\nCalendar\nhttps://j
 ewishcentralmass.org/calendar/jfcm-annual-meeting-2022\n\nJFCM 2022 Annua
 l Meeting\n\n7:00 pm at Worcester JCC
DTSTART;TZID=America/New_York:20220914T190000
DTEND;TZID=America/New_York:20220914T210000
END:VEVENT
END:VCALENDAR
